BEGIN:VCALENDAR
VERSION:2.0
PRODID:-//Polo Civico Esquilino - ECPv6.15.20//NONSGML v1.0//EN
CALSCALE:GREGORIAN
METHOD:PUBLISH
X-WR-CALNAME:Polo Civico Esquilino
X-ORIGINAL-URL:https://polocivicoesquilino.it
X-WR-CALDESC:Eventi per Polo Civico Esquilino
REFRESH-INTERVAL;VALUE=DURATION:PT1H
X-Robots-Tag:noindex
X-PUBLISHED-TTL:PT1H
BEGIN:VTIMEZONE
TZID:Europe/Rome
BEGIN:DAYLIGHT
TZOFFSETFROM:+0100
TZOFFSETTO:+0200
TZNAME:CEST
DTSTART:20250330T010000
END:DAYLIGHT
BEGIN:STANDARD
TZOFFSETFROM:+0200
TZOFFSETTO:+0100
TZNAME:CET
DTSTART:20251026T010000
END:STANDARD
BEGIN:DAYLIGHT
TZOFFSETFROM:+0100
TZOFFSETTO:+0200
TZNAME:CEST
DTSTART:20260329T010000
END:DAYLIGHT
BEGIN:STANDARD
TZOFFSETFROM:+0200
TZOFFSETTO:+0100
TZNAME:CET
DTSTART:20261025T010000
END:STANDARD
BEGIN:DAYLIGHT
TZOFFSETFROM:+0100
TZOFFSETTO:+0200
TZNAME:CEST
DTSTART:20270328T010000
END:DAYLIGHT
BEGIN:STANDARD
TZOFFSETFROM:+0200
TZOFFSETTO:+0100
TZNAME:CET
DTSTART:20271031T010000
END:STANDARD
END:VTIMEZONE
BEGIN:VEVENT
DTSTART;TZID=Europe/Rome:20260307T130000
DTEND;TZID=Europe/Rome:20260307T160000
DTSTAMP:20260420T160849
CREATED:20260306T101250Z
LAST-MODIFIED:20260306T101250Z
UID:6132-1772888400-1772899200@polocivicoesquilino.it
SUMMARY:Costruiamo una società della cura
DESCRIPTION:Sabato 7 marzo ci incontriamo in assemblea regionale per discutere di come costruire una società della cura e una scuola sicura e inclusiva. \nNe parliamo insieme a:\nCristiano Corsini\, pedagogista – UniRoma3\nSofia Antonelli\, Antigone\nScomodo\nArianna Vicario\, Generazione\nMartina Bernocchi\, attrice\nCattive Maestre \n📍 ITIS Galileo Galilei – Roma\n🗓 Sabato 7 marzo\n🕐 Ore 13:00
URL:https://polocivicoesquilino.it/evento/costruiamo-una-societa-della-cura/
LOCATION:ITIS Galieo Galilei
ATTACH;FMTTYPE=image/jpeg:https://polocivicoesquilino.it/wp-content/uploads/2026/03/640329992_18570249526023366_2776583025459409033_n.jpg
END:VEVENT
END:VCALENDAR