BEGIN:VCALENDAR
VERSION:2.0
PRODID:-//Polo Civico Esquilino - ECPv6.15.20//NONSGML v1.0//EN
CALSCALE:GREGORIAN
METHOD:PUBLISH
X-WR-CALNAME:Polo Civico Esquilino
X-ORIGINAL-URL:https://polocivicoesquilino.it
X-WR-CALDESC:Eventi per Polo Civico Esquilino
REFRESH-INTERVAL;VALUE=DURATION:PT1H
X-Robots-Tag:noindex
X-PUBLISHED-TTL:PT1H
BEGIN:VTIMEZONE
TZID:Europe/Rome
BEGIN:DAYLIGHT
TZOFFSETFROM:+0100
TZOFFSETTO:+0200
TZNAME:CEST
DTSTART:20250330T010000
END:DAYLIGHT
BEGIN:STANDARD
TZOFFSETFROM:+0200
TZOFFSETTO:+0100
TZNAME:CET
DTSTART:20251026T010000
END:STANDARD
BEGIN:DAYLIGHT
TZOFFSETFROM:+0100
TZOFFSETTO:+0200
TZNAME:CEST
DTSTART:20260329T010000
END:DAYLIGHT
BEGIN:STANDARD
TZOFFSETFROM:+0200
TZOFFSETTO:+0100
TZNAME:CET
DTSTART:20261025T010000
END:STANDARD
BEGIN:DAYLIGHT
TZOFFSETFROM:+0100
TZOFFSETTO:+0200
TZNAME:CEST
DTSTART:20270328T010000
END:DAYLIGHT
BEGIN:STANDARD
TZOFFSETFROM:+0200
TZOFFSETTO:+0100
TZNAME:CET
DTSTART:20271031T010000
END:STANDARD
END:VTIMEZONE
BEGIN:VEVENT
DTSTART;TZID=Europe/Rome:20260311T150000
DTEND;TZID=Europe/Rome:20260311T173000
DTSTAMP:20260420T162811
CREATED:20260302T121346Z
LAST-MODIFIED:20260302T121346Z
UID:6117-1773241200-1773250200@polocivicoesquilino.it
SUMMARY:Corso sull'Educazione all’Affettività
DESCRIPTION:Un corso per parlare di rispetto\, consenso\, libertà e relazioni sane.Per imparare a riconoscere i segnali\, a mettere confini\, a scegliere sé stessi. \n📍 Tutti i mercoledì🗓 Dall’11 marzo🕒 15:00 – 17:30📚 Biblioteca “Bruno Cacco” – ITIS Galileo Galilei \n👉 Corso aperto alla comunità scolastica ed esterna.📩 Per info: scuoleaperte@itisgalileiroma.it📲 Iscriviti inquadrando il QR code in locandina
URL:https://polocivicoesquilino.it/evento/corso-sulleducazione-allaffettivita/
LOCATION:Biblioteca “Bruno Cacco”
ATTACH;FMTTYPE=image/jpeg:https://polocivicoesquilino.it/wp-content/uploads/2026/03/WhatsApp-Image-2026-03-02-at-09.28.04.jpeg
END:VEVENT
END:VCALENDAR