BEGIN:VCALENDAR
VERSION:2.0
PRODID:-//Polo Civico Esquilino - ECPv6.15.20//NONSGML v1.0//EN
CALSCALE:GREGORIAN
METHOD:PUBLISH
X-ORIGINAL-URL:https://polocivicoesquilino.it
X-WR-CALDESC:Eventi per Polo Civico Esquilino
REFRESH-INTERVAL;VALUE=DURATION:PT1H
X-Robots-Tag:noindex
X-PUBLISHED-TTL:PT1H
BEGIN:VTIMEZONE
TZID:Europe/Rome
BEGIN:DAYLIGHT
TZOFFSETFROM:+0100
TZOFFSETTO:+0200
TZNAME:CEST
DTSTART:20230326T010000
END:DAYLIGHT
BEGIN:STANDARD
TZOFFSETFROM:+0200
TZOFFSETTO:+0100
TZNAME:CET
DTSTART:20231029T010000
END:STANDARD
BEGIN:DAYLIGHT
TZOFFSETFROM:+0100
TZOFFSETTO:+0200
TZNAME:CEST
DTSTART:20240331T010000
END:DAYLIGHT
BEGIN:STANDARD
TZOFFSETFROM:+0200
TZOFFSETTO:+0100
TZNAME:CET
DTSTART:20241027T010000
END:STANDARD
BEGIN:DAYLIGHT
TZOFFSETFROM:+0100
TZOFFSETTO:+0200
TZNAME:CEST
DTSTART:20250330T010000
END:DAYLIGHT
BEGIN:STANDARD
TZOFFSETFROM:+0200
TZOFFSETTO:+0100
TZNAME:CET
DTSTART:20251026T010000
END:STANDARD
END:VTIMEZONE
BEGIN:VEVENT
DTSTART;TZID=Europe/Rome:20241222T150000
DTEND;TZID=Europe/Rome:20241222T173000
DTSTAMP:20260420T143943
CREATED:20241222T171646Z
LAST-MODIFIED:20241223T132059Z
UID:4749-1734879600-1734888600@polocivicoesquilino.it
SUMMARY:Tanti auguri Esquilino!
DESCRIPTION:Il 22 dicembre alle 15.30 sotto l’albero di Natale di Piazza Gugliemo Pepe vi invitiamo a brindare insieme al Natale e a questo nuovo anno che si sta avvicinando. \nSarà anche l’occasione per fare insieme il punto insieme sul percorso di progettazione partecipata avviato da alcuni mesi\, nato per restituire anche Piazza Pepe a chi vive il Rione! \nCi vediamo domenica!
URL:https://polocivicoesquilino.it/evento/evento-1/
LOCATION:Piazza Pepe\, Piazza Guglielmo Pepe\, Roma\, Italy
ATTACH;FMTTYPE=image/jpeg:https://polocivicoesquilino.it/wp-content/uploads/2024/11/brindisi_natale-pepe.jpeg
END:VEVENT
END:VCALENDAR