BEGIN:VCALENDAR
VERSION:2.0
PRODID:-//Polo Civico Esquilino - ECPv6.15.20//NONSGML v1.0//EN
CALSCALE:GREGORIAN
METHOD:PUBLISH
X-WR-CALNAME:Polo Civico Esquilino
X-ORIGINAL-URL:https://polocivicoesquilino.it
X-WR-CALDESC:Eventi per Polo Civico Esquilino
REFRESH-INTERVAL;VALUE=DURATION:PT1H
X-Robots-Tag:noindex
X-PUBLISHED-TTL:PT1H
BEGIN:VTIMEZONE
TZID:Europe/Rome
BEGIN:DAYLIGHT
TZOFFSETFROM:+0100
TZOFFSETTO:+0200
TZNAME:CEST
DTSTART:20250330T010000
END:DAYLIGHT
BEGIN:STANDARD
TZOFFSETFROM:+0200
TZOFFSETTO:+0100
TZNAME:CET
DTSTART:20251026T010000
END:STANDARD
BEGIN:DAYLIGHT
TZOFFSETFROM:+0100
TZOFFSETTO:+0200
TZNAME:CEST
DTSTART:20260329T010000
END:DAYLIGHT
BEGIN:STANDARD
TZOFFSETFROM:+0200
TZOFFSETTO:+0100
TZNAME:CET
DTSTART:20261025T010000
END:STANDARD
BEGIN:DAYLIGHT
TZOFFSETFROM:+0100
TZOFFSETTO:+0200
TZNAME:CEST
DTSTART:20270328T010000
END:DAYLIGHT
BEGIN:STANDARD
TZOFFSETFROM:+0200
TZOFFSETTO:+0100
TZNAME:CET
DTSTART:20271031T010000
END:STANDARD
END:VTIMEZONE
BEGIN:VEVENT
DTSTART;TZID=Europe/Rome:20260322T180000
DTEND;TZID=Europe/Rome:20260322T230000
DTSTAMP:20260419T204428
CREATED:20260319T133849Z
LAST-MODIFIED:20260319T133849Z
UID:6235-1774202400-1774220400@polocivicoesquilino.it
SUMMARY:Presentazione della rivista Scomodo N°75
DESCRIPTION:📍 La Redazione Roma – via Carlo Emanuele I\, 26🗓 22 marzo🕕 Dalle ore 18:00🎟 Ingresso libero \nÈ arrivato il nuovo numero del nostro mensile: ci vediamo in Redazione per festeggiare e parlarne insieme. \nAll’interno: un fotoreportage dalla Val d’Agri\, un’inchiesta sulle cucine che cambiano con le comunità migranti e un racconto sui femminismi internazionali\, dall’Iran alla Palestina. \n🍽 Ore 18:00 – Talk “Generazioni Culinarie” con Alberto Grandi e Irene Volpe🍲 Ore 20:00 – Cena palestinese🎬 Ore 20:30 – Documentario dedicato alla musica libanese e alla cantante Fairuz🎶 Ore 21:00 – Live @yallarabi_official + DJ set Rust Baladi con PÄM\, selettrice musicale libanese che esplora le tradizioni musicali arabe e Swana \n📸 Durante tutta la serata: mostra fotografica di X-Town sulle trasformazioni delle company town italiane\, città la cui vita produttiva gira attorno a una o poche grandi fabbriche.
URL:https://polocivicoesquilino.it/evento/presentazione-della-rivista-scomodo-n75/
LOCATION:Scomodo\, Via Carlo Emanuele I\, 26\, Roma
ATTACH;FMTTYPE=image/jpeg:https://polocivicoesquilino.it/wp-content/uploads/2026/03/652760269_18407428993130122_3568456895470481372_n.jpg
END:VEVENT
END:VCALENDAR