BEGIN:VCALENDAR
VERSION:2.0
PRODID:-//Polo Civico Esquilino - ECPv6.15.20//NONSGML v1.0//EN
CALSCALE:GREGORIAN
METHOD:PUBLISH
X-ORIGINAL-URL:https://polocivicoesquilino.it
X-WR-CALDESC:Eventi per Polo Civico Esquilino
REFRESH-INTERVAL;VALUE=DURATION:PT1H
X-Robots-Tag:noindex
X-PUBLISHED-TTL:PT1H
BEGIN:VTIMEZONE
TZID:Europe/Rome
BEGIN:DAYLIGHT
TZOFFSETFROM:+0100
TZOFFSETTO:+0200
TZNAME:CEST
DTSTART:20250330T010000
END:DAYLIGHT
BEGIN:STANDARD
TZOFFSETFROM:+0200
TZOFFSETTO:+0100
TZNAME:CET
DTSTART:20251026T010000
END:STANDARD
BEGIN:DAYLIGHT
TZOFFSETFROM:+0100
TZOFFSETTO:+0200
TZNAME:CEST
DTSTART:20260329T010000
END:DAYLIGHT
BEGIN:STANDARD
TZOFFSETFROM:+0200
TZOFFSETTO:+0100
TZNAME:CET
DTSTART:20261025T010000
END:STANDARD
BEGIN:DAYLIGHT
TZOFFSETFROM:+0100
TZOFFSETTO:+0200
TZNAME:CEST
DTSTART:20270328T010000
END:DAYLIGHT
BEGIN:STANDARD
TZOFFSETFROM:+0200
TZOFFSETTO:+0100
TZNAME:CET
DTSTART:20271031T010000
END:STANDARD
END:VTIMEZONE
BEGIN:VEVENT
DTSTART;TZID=Europe/Rome:20260127T180000
DTEND;TZID=Europe/Rome:20260127T203000
DTSTAMP:20260420T001735
CREATED:20260121T101748Z
LAST-MODIFIED:20260121T101748Z
UID:5941-1769536800-1769545800@polocivicoesquilino.it
SUMMARY:A cosa crediamo? Fake news\, IA e informazione
DESCRIPTION:Fake news e manipolazione mediatica: una serata dedicata all’educazione critica presso la redazione di Scomodo \n\n\n\nAppuntamento martedì 27 gennaio con la conferenza A cosa crediamo? Fake news\, IA e informazione\, realizzata da Explora\, il Museo dei Bambini di Roma in collaborazione con Scomodo. \nL’evento si tiene presso la Redazione di Scomodo ed è dedicato all’educazione ai media e al pensiero critico\, con un focus specifico sul tema delle fake news e delle tecniche di manipolazione dell’informazione. \nL’iniziativa prende avvio alle ore 18.00 in Via Carlo Emanuele\, 26.
URL:https://polocivicoesquilino.it/evento/a-cosa-crediamo-fake-news-ia-e-informazione/
LOCATION:Redazione Roma\, Via Carlo Emanuele\, 26\, Roma\, Italy
ATTACH;FMTTYPE=image/jpeg:https://polocivicoesquilino.it/wp-content/uploads/2026/01/WhatsApp-Image-2026-01-20-at-16.13.20.jpeg
END:VEVENT
END:VCALENDAR